View In:
ArcGIS JavaScript
ArcGIS Online Map Viewer
ArcGIS Earth
ArcGIS Pro
Service Description:
Map Name: Map
Legend
All Layers and Tables
Layers:
Description:
Service Item Id: 10ed921815a34c3fa39c1dbbb0fb96ee
Copyright Text:
Spatial Reference:
102100
(3857)
LatestVCSWkid(0)
Single Fused Map Cache: true
Tile Info:
- Height: 256.0
- Width: 256.0
- DPI: 96.0
-
Levels of Detail: 24
-
Level ID: 1
[ Start Tile, End Tile ]
- Resolution: 78271.5169639999
- Scale: 2.95828763795777E8
-
Level ID: 2
[ Start Tile, End Tile ]
- Resolution: 39135.7584820001
- Scale: 1.47914381897889E8
-
Level ID: 3
[ Start Tile, End Tile ]
- Resolution: 19567.8792409999
- Scale: 7.3957190948944E7
-
Level ID: 4
[ Start Tile, End Tile ]
- Resolution: 9783.93962049996
- Scale: 3.6978595474472E7
-
Level ID: 5
[ Start Tile, End Tile ]
- Resolution: 4891.96981024998
- Scale: 1.8489297737236E7
- Format: PNG32
- Compression Quality: 0.0
- Origin: X: -2.0037508342787E7
Y: 2.0037508342787E7
- Spatial Reference: 102100
(3857)
LatestVCSWkid(0)
Storage Info:
- Storage Format: esriMapCacheStorageModeCompactV2
- Packet Size: 128
Initial Extent:
XMin: -8348982.120504884
YMin: 899213.3949581258
XMax: -8237480.893464002
YMax: 1011443.1354987237
Spatial Reference: 102100
(3857)
LatestVCSWkid(0)
Full Extent:
XMin: -8348982.120504884
YMin: 899213.3949581258
XMax: -8237480.893464002
YMax: 1011443.1354987237
Spatial Reference: 102100
(3857)
LatestVCSWkid(0)
Units: esriMeters
Supported Image Format Types:
Document Info:
Supports Dynamic Layers: false
Resampling: true
MaxRecordCount: 0
MaxSelectionCount: 0
MaxImageHeight: 0
MaxImageWidth: 0
Supported Query Formats:
Supports Query Data Elements:
Min Scale: 147914382
Max Scale: 9456
Min LOD: 0
Max LOD: 10
Child Resources:
Info
Supported Operations:
QueryLegends
Return Updates